BEGIN:VCALENDAR
VERSION:2.0
PRODID:-//Marion Carnegie Library | 618-993-5935 - ECPv6.15.12.2//NONSGML v1.0//EN
CALSCALE:GREGORIAN
METHOD:PUBLISH
X-WR-CALNAME:Marion Carnegie Library | 618-993-5935
X-ORIGINAL-URL:https://www.marioncarnegielibrary.org
X-WR-CALDESC:Events for Marion Carnegie Library | 618-993-5935
REFRESH-INTERVAL;VALUE=DURATION:PT1H
X-Robots-Tag:noindex
X-PUBLISHED-TTL:PT1H
BEGIN:VTIMEZONE
TZID:America/Chicago
BEGIN:DAYLIGHT
TZOFFSETFROM:-0600
TZOFFSETTO:-0500
TZNAME:CDT
DTSTART:20240310T080000
END:DAYLIGHT
BEGIN:STANDARD
TZOFFSETFROM:-0500
TZOFFSETTO:-0600
TZNAME:CST
DTSTART:20241103T070000
END:STANDARD
BEGIN:DAYLIGHT
TZOFFSETFROM:-0600
TZOFFSETTO:-0500
TZNAME:CDT
DTSTART:20250309T080000
END:DAYLIGHT
BEGIN:STANDARD
TZOFFSETFROM:-0500
TZOFFSETTO:-0600
TZNAME:CST
DTSTART:20251102T070000
END:STANDARD
BEGIN:DAYLIGHT
TZOFFSETFROM:-0600
TZOFFSETTO:-0500
TZNAME:CDT
DTSTART:20260308T080000
END:DAYLIGHT
BEGIN:STANDARD
TZOFFSETFROM:-0500
TZOFFSETTO:-0600
TZNAME:CST
DTSTART:20261101T070000
END:STANDARD
END:VTIMEZONE
BEGIN:VEVENT
DTSTART;TZID=America/Chicago:20250108T090000
DTEND;TZID=America/Chicago:20250108T090000
DTSTAMP:20260425T061001
CREATED:20241219T225635Z
LAST-MODIFIED:20241220T001219Z
UID:26401-1736326800-1736326800@www.marioncarnegielibrary.org
SUMMARY:Adult Takeaway Craft: Botanical Clay Print
DESCRIPTION:All materials and instructions will be included to create an air dried clay decoration with a winter botanical impression.\nNo registration required.\nOne kit per patron\, please. Available while supplies last. This craft is intended for ages 18 and older. \nPick up begins on January 8th at 9 a.m. at the Main Floor Circulation Desk. \nNOTICE: All participants and parents understand and agree that photos taken at the event may be used in social media postings and future promotions.
URL:https://www.marioncarnegielibrary.org/event/adult-takeaway-craft-botanical-clay-print/
LOCATION:206 S Market St\, Marion\, IL\, United States\, Illinois 62959
CATEGORIES:Adult Department
ATTACH;FMTTYPE=image/jpeg:https://www.marioncarnegielibrary.org/wp-content/uploads/2024/12/26401_image_471162633_1018520576981421_4053908620858085145_n.jpg
END:VEVENT
BEGIN:VEVENT
DTSTART;TZID=America/Chicago:20250114T170000
DTEND;TZID=America/Chicago:20250114T190000
DTSTAMP:20260425T061001
CREATED:20241219T181424Z
LAST-MODIFIED:20241219T181424Z
UID:26395-1736874000-1736881200@www.marioncarnegielibrary.org
SUMMARY:Lawyer in the Library
DESCRIPTION:Registration is required for this event. Check availability/sign up at the MCL Main Floor Circulation Desk. This event is intended for ages 18 and older.  \nAn attorney will be available for 20-minute\, one-on-one meetings to assist with legal coaching\, document review\, referrals to additional community services\, e-filing court documents\, and legal questions. \nNOTICE: All participants and parents understand and agree that photos taken at the event may be used in social media postings and future promotions.
URL:https://www.marioncarnegielibrary.org/event/lawyer-in-the-library-34/
LOCATION:206 S Market St\, Marion\, IL\, United States\, Illinois 62959
CATEGORIES:Adult Department
ATTACH;FMTTYPE=image/jpeg:https://www.marioncarnegielibrary.org/wp-content/uploads/2024/12/26395_image_471148525_1018392386994240_5141386105853059147_n.jpg
END:VEVENT
BEGIN:VEVENT
DTSTART;TZID=America/Chicago:20250125T100000
DTEND;TZID=America/Chicago:20250125T100000
DTSTAMP:20260425T061001
CREATED:20241219T182419Z
LAST-MODIFIED:20241220T000606Z
UID:26398-1737799200-1737799200@www.marioncarnegielibrary.org
SUMMARY:MCL Book Club
DESCRIPTION:Join us for MCL Book Club! Meet up with fellow book lovers to discuss a book selected by the group! Be a part of the discussion\, help select what we read\, and make new friends! \nThis month\, we will be discussing “How to Age Disgracefully” by Clare Pooley at 10:00 a.m. on Saturday\, January 25th in the MCL McCoskey Room. \nMCL Book Club is intended for ages 18 and older. \nWe do have a book club for teens called “The Bookworms” that meets separately. Visit marioncarnegielibrary.org/events for more details. \nNOTICE: All participants and parents understand and agree that photos taken at the event may be used in social media postings and future promotions.
URL:https://www.marioncarnegielibrary.org/event/mcl-book-club-32/
LOCATION:206 S Market St\, Marion\, IL\, United States\, Illinois 62959
CATEGORIES:Adult Department
ATTACH;FMTTYPE=image/jpeg:https://www.marioncarnegielibrary.org/wp-content/uploads/2024/12/26398_image_470544869_1018397416993737_1454850128992870959_n.jpg
END:VEVENT
END:VCALENDAR