BEGIN:VCALENDAR
VERSION:2.0
PRODID:-//Marion Carnegie Library | 618-993-5935 - ECPv6.15.12.2//NONSGML v1.0//EN
CALSCALE:GREGORIAN
METHOD:PUBLISH
X-ORIGINAL-URL:https://www.marioncarnegielibrary.org
X-WR-CALDESC:Events for Marion Carnegie Library | 618-993-5935
REFRESH-INTERVAL;VALUE=DURATION:PT1H
X-Robots-Tag:noindex
X-PUBLISHED-TTL:PT1H
BEGIN:VTIMEZONE
TZID:America/Chicago
BEGIN:DAYLIGHT
TZOFFSETFROM:-0600
TZOFFSETTO:-0500
TZNAME:CDT
DTSTART:20230312T080000
END:DAYLIGHT
BEGIN:STANDARD
TZOFFSETFROM:-0500
TZOFFSETTO:-0600
TZNAME:CST
DTSTART:20231105T070000
END:STANDARD
BEGIN:DAYLIGHT
TZOFFSETFROM:-0600
TZOFFSETTO:-0500
TZNAME:CDT
DTSTART:20240310T080000
END:DAYLIGHT
BEGIN:STANDARD
TZOFFSETFROM:-0500
TZOFFSETTO:-0600
TZNAME:CST
DTSTART:20241103T070000
END:STANDARD
BEGIN:DAYLIGHT
TZOFFSETFROM:-0600
TZOFFSETTO:-0500
TZNAME:CDT
DTSTART:20250309T080000
END:DAYLIGHT
BEGIN:STANDARD
TZOFFSETFROM:-0500
TZOFFSETTO:-0600
TZNAME:CST
DTSTART:20251102T070000
END:STANDARD
END:VTIMEZONE
BEGIN:VEVENT
DTSTART;TZID=America/Chicago:20240905T180000
DTEND;TZID=America/Chicago:20240905T190000
DTSTAMP:20260425T115052
CREATED:20240823T151612Z
LAST-MODIFIED:20240823T151612Z
UID:25566-1725559200-1725562800@www.marioncarnegielibrary.org
SUMMARY:Healthy Living for Your Brain and Body: Tips from the Latest Research with Becky Doiron
DESCRIPTION:For centuries\, we’ve known that the health of the brain and the body are connected. But now\, science is able to provide insights into how to optimize our physical and cognitive health as we age. Join us to learn about research in the areas of diet and nutrition\, exercise\, cognitive activity\, and social engagement\, and use hands-on tools to help you incorporate these recommendations into a plan for healthy aging. \nThis event is absolutely free and intended for ages 18 and older. No registration or library card is necessary. \nNOTICE:  All participants and parents understand and agree that photos taken at the event may be used in social media postings and future promotions.
URL:https://www.marioncarnegielibrary.org/event/healthy-living-for-your-brain-and-body-tips-from-the-latest-research-with-becky-doiron/
LOCATION:Marion Carnegie Library\, 206 S Market St\, Marion\, IL\, 62959\, US
CATEGORIES:Adult Department
ATTACH;FMTTYPE=image/jpeg:https://www.marioncarnegielibrary.org/wp-content/uploads/2024/08/25566_image_456561647_927281622771984_6661460054726716862_n.jpg
END:VEVENT
BEGIN:VEVENT
DTSTART;TZID=America/Chicago:20240907T130000
DTEND;TZID=America/Chicago:20240907T140000
DTSTAMP:20260425T115052
CREATED:20240823T151602Z
LAST-MODIFIED:20240823T152823Z
UID:25558-1725714000-1725717600@www.marioncarnegielibrary.org
SUMMARY:MCL In Conversation with Local Veteran Authors
DESCRIPTION:Celebrate our nation’s veterans at this special library event! We’ll talk to local veteran authors about their story\, their military service\, and how that service influenced their writing and process. We’ll even do a quick reading of a piece of their writing. \nThis event is absolutely free and intended for ages 18 and older. No registration or library card is necessary. \nNOTICE: All participants and parents understand and agree that photos taken at the event may be used in social media postings and future promotions.
URL:https://www.marioncarnegielibrary.org/event/mcl-in-conversation-with-local-veteran-authors/
LOCATION:Marion Carnegie Library\, 206 S Market St\, Marion\, IL\, 62959\, US
CATEGORIES:Adult Department
ATTACH;FMTTYPE=image/jpeg:https://www.marioncarnegielibrary.org/wp-content/uploads/2024/08/25558_image_456654887_927287819438031_1323962406959208083_n.jpg
END:VEVENT
BEGIN:VEVENT
DTSTART;TZID=America/Chicago:20240912T173000
DTEND;TZID=America/Chicago:20240912T193000
DTSTAMP:20260425T115052
CREATED:20240823T151559Z
LAST-MODIFIED:20240823T151559Z
UID:25556-1726162200-1726169400@www.marioncarnegielibrary.org
SUMMARY:MCL Adult Craft - Hand-Cut Collage Class with Bits and Pieces
DESCRIPTION:In this two-hour special crafting class\, Southern Illinois artist Jennifer Colboth of Bits and Pieces will lead us in hand-cut collage artwork.  Jennifer will talk about the history of the art and give ideas and tips on how to create your own artwork.  \nThe event is free and open to ages 18 and up. Registration is required to attend and you can sign up by calling the library at 618-993-5935 or visiting the library’s Main Floor desk beginning Wednesday\, September 4\, 2024. \nNOTICE: All participants and parents understand and agree that photos taken at library events may be used in social media postings and future promotions
URL:https://www.marioncarnegielibrary.org/event/mcl-adult-craft-hand-cut-collage-class-with-bits-and-pieces/
LOCATION:Marion Carnegie Library\, 206 S Market St\, Marion\, IL\, 62959\, US
CATEGORIES:Adult Department
ATTACH;FMTTYPE=image/jpeg:https://www.marioncarnegielibrary.org/wp-content/uploads/2024/08/25556_image_456671562_927290509437762_1897436044256056055_n.jpg
END:VEVENT
BEGIN:VEVENT
DTSTART;TZID=America/Chicago:20240917T170000
DTEND;TZID=America/Chicago:20240917T190000
DTSTAMP:20260425T115052
CREATED:20240823T151608Z
LAST-MODIFIED:20240823T151608Z
UID:25564-1726592400-1726599600@www.marioncarnegielibrary.org
SUMMARY:Lawyer in the Library
DESCRIPTION:An attorney will be available for 20-minute\, one-on-one meetings to assist you with legal coaching\,\ndocument review\, referrals to additional community services\, e-filing court documents\, and legal questions.   \n-No Fees!\n-Please Pre-Register at the Main Floor Circulation Desk\n-Bring paperwork that relates to your legal matter    \n*This program is free and open to the public.*    \n– Maximum of one session per person every 2 months.\n– You are not eligible to participate if you are currently represented by an attorney.\n– Participants should reside within the First Judicial Circuit of Illinois. \nSponsored in part by Self-Represented Litigant Coordinator Grant through Access to Justice Division\, AOIC Brenda Sprague\, Coordinator Office of the Chief Judge\, First Judicial Circuit.
URL:https://www.marioncarnegielibrary.org/event/lawyer-in-the-library-30/
LOCATION:Marion Carnegie Library\, 206 S Market St\, Marion\, IL\, 62959\, US
CATEGORIES:Adult Department
ATTACH;FMTTYPE=image/jpeg:https://www.marioncarnegielibrary.org/wp-content/uploads/2024/08/25564_image_456579067_927282226105257_910900034502355781_n.jpg
END:VEVENT
BEGIN:VEVENT
DTSTART;TZID=America/Chicago:20240928T100000
DTEND;TZID=America/Chicago:20240928T110000
DTSTAMP:20260425T115052
CREATED:20240823T151606Z
LAST-MODIFIED:20240823T162208Z
UID:25562-1727517600-1727521200@www.marioncarnegielibrary.org
SUMMARY:MCL Book Club
DESCRIPTION:In September\, the MCL Book Club will discuss “Dark Matter” by Blake Crouch. \nThis event is absolutely free and intended for ages 18 and older. No registration or library card is necessary. \nRemember to bring a few book recommendations and your best discussion questions to the meeting! \nNOTICE: All participants and parents understand and agree that photos taken at the event may be used in social media postings and future promotions.
URL:https://www.marioncarnegielibrary.org/event/mcl-book-club-29/
LOCATION:Marion Carnegie Library\, 206 S Market St\, Marion\, IL\, 62959\, US
CATEGORIES:Adult Department
ATTACH;FMTTYPE=image/jpeg:https://www.marioncarnegielibrary.org/wp-content/uploads/2024/08/25562_image_456489766_927283222771824_1463206675825040118_n.jpg
END:VEVENT
END:VCALENDAR