BEGIN:VCALENDAR
VERSION:2.0
PRODID:-//Marion Carnegie Library | 618-993-5935 - ECPv6.15.12.2//NONSGML v1.0//EN
CALSCALE:GREGORIAN
METHOD:PUBLISH
X-WR-CALNAME:Marion Carnegie Library | 618-993-5935
X-ORIGINAL-URL:https://www.marioncarnegielibrary.org
X-WR-CALDESC:Events for Marion Carnegie Library | 618-993-5935
REFRESH-INTERVAL;VALUE=DURATION:PT1H
X-Robots-Tag:noindex
X-PUBLISHED-TTL:PT1H
BEGIN:VTIMEZONE
TZID:America/Chicago
BEGIN:DAYLIGHT
TZOFFSETFROM:-0600
TZOFFSETTO:-0500
TZNAME:CDT
DTSTART:20230312T080000
END:DAYLIGHT
BEGIN:STANDARD
TZOFFSETFROM:-0500
TZOFFSETTO:-0600
TZNAME:CST
DTSTART:20231105T070000
END:STANDARD
BEGIN:DAYLIGHT
TZOFFSETFROM:-0600
TZOFFSETTO:-0500
TZNAME:CDT
DTSTART:20240310T080000
END:DAYLIGHT
BEGIN:STANDARD
TZOFFSETFROM:-0500
TZOFFSETTO:-0600
TZNAME:CST
DTSTART:20241103T070000
END:STANDARD
BEGIN:DAYLIGHT
TZOFFSETFROM:-0600
TZOFFSETTO:-0500
TZNAME:CDT
DTSTART:20250309T080000
END:DAYLIGHT
BEGIN:STANDARD
TZOFFSETFROM:-0500
TZOFFSETTO:-0600
TZNAME:CST
DTSTART:20251102T070000
END:STANDARD
END:VTIMEZONE
BEGIN:VEVENT
DTSTART;TZID=America/Chicago:20240709T170000
DTEND;TZID=America/Chicago:20240709T190000
DTSTAMP:20260425T173816
CREATED:20240530T160300Z
LAST-MODIFIED:20240530T160300Z
UID:25221-1720544400-1720551600@www.marioncarnegielibrary.org
SUMMARY:Lawyer in the Library
DESCRIPTION:An attorney will be available for 20-minute\, one-on-one meetings to assist you with legal coaching\,\ndocument review\, referrals to additional community services\, e-filing court documents\, and legal questions.   \n-No Fees!\n-Please Pre-Register at the Main Floor Circulation Desk\n-Bring paperwork that relates to your legal matter    \n*This program is free and open to the public.*    \n– Maximum of one session per person every 2 months.\n– You are not eligible to participate if you are currently represented by an attorney.\n– Participants should reside within the First Judicial Circuit of Illinois. \nSponsored in part by Self-Represented Litigant Coordinator Grant through Access to Justice Division\, AOIC Brenda Sprague\, Coordinator Office of the Chief Judge\, First Judicial Circuit.
URL:https://www.marioncarnegielibrary.org/event/lawyer-in-the-library-28/
LOCATION:Marion Carnegie Library\, 206 S Market St\, Marion\, IL\, 62959\, US
CATEGORIES:Adult Department
ATTACH;FMTTYPE=image/jpeg:https://www.marioncarnegielibrary.org/wp-content/uploads/2024/05/25221_image_447206723_870937831739697_8880045915471653869_n.jpg
END:VEVENT
BEGIN:VEVENT
DTSTART;TZID=America/Chicago:20240711T150000
DTEND;TZID=America/Chicago:20240711T160000
DTSTAMP:20260425T173816
CREATED:20240604T200108Z
LAST-MODIFIED:20240604T200108Z
UID:25253-1720710000-1720713600@www.marioncarnegielibrary.org
SUMMARY:MCL Adult Craft - Winter Fairy Garden
DESCRIPTION:Beat the heat with MCL Adult Craft in July! Create a winter-themed fairy garden in the library’s McCoskey Room!  \nThe event is free and open to ages 18 and up. Registration is required to attend and you can sign up by calling the library at 618-993-5935 or visiting the library’s Main Floor desk beginning Wednesday\, July 3\, 2024. \nNOTICE: All participants and parents understand and agree that photos taken at library events may be used in social media postings and future promotions
URL:https://www.marioncarnegielibrary.org/event/mcl-adult-craft-winter-fairy-garden-2/
LOCATION:Marion Carnegie Library\, 206 S Market St\, Marion\, IL\, 62959\, US
CATEGORIES:Adult Department
ATTACH;FMTTYPE=image/jpeg:https://www.marioncarnegielibrary.org/wp-content/uploads/2024/06/25251_image_447855569_874164304750383_4281282636751300621_n.jpg
END:VEVENT
BEGIN:VEVENT
DTSTART;TZID=America/Chicago:20240711T173000
DTEND;TZID=America/Chicago:20240711T183000
DTSTAMP:20260425T173816
CREATED:20240604T200105Z
LAST-MODIFIED:20240604T200105Z
UID:25251-1720719000-1720722600@www.marioncarnegielibrary.org
SUMMARY:MCL Adult Craft - Winter Fairy Garden
DESCRIPTION:Beat the heat with MCL Adult Craft in July! Create a winter-themed fairy garden in the library’s McCoskey Room!  \nThe event is free and open to ages 18 and up. Registration is required to attend and you can sign up by calling the library at 618-993-5935 or visiting the library’s Main Floor desk beginning Wednesday\, July 3\, 2024. \nNOTICE: All participants and parents understand and agree that photos taken at library events may be used in social media postings and future promotions
URL:https://www.marioncarnegielibrary.org/event/mcl-adult-craft-winter-fairy-garden/
LOCATION:Marion Carnegie Library\, 206 S Market St\, Marion\, IL\, 62959\, US
CATEGORIES:Adult Department
ATTACH;FMTTYPE=image/jpeg:https://www.marioncarnegielibrary.org/wp-content/uploads/2024/06/25251_image_447855569_874164304750383_4281282636751300621_n.jpg
END:VEVENT
BEGIN:VEVENT
DTSTART;TZID=America/Chicago:20240717T180000
DTEND;TZID=America/Chicago:20240717T190000
DTSTAMP:20260425T173816
CREATED:20240530T160258Z
LAST-MODIFIED:20240711T140703Z
UID:25219-1721239200-1721242800@www.marioncarnegielibrary.org
SUMMARY:Marion Mural District Tour with Josh Benson and Shawn Vincelette
DESCRIPTION:Meet at the Marion Cultural and Civic Center to join mural creators Josh Benson\, Shawn Vincelette\, and MCL staff members for a tour of the Marion Murals. \nJosh and Shawn will lead us on a walking tour of the murals around the square\, discussing the project as a whole and give inside background to each piece we encounter. \nWear comfortable shoes and be ready to do a lot of walking! \nThis event is free and open to everyone. No library card is required. \nNOTICE: All participants and parents understand and agree that photos taken at library events may be used in social media postings and future promotions.
URL:https://www.marioncarnegielibrary.org/event/marion-mural-district-tour-with-josh-benson-and-shawn-vincelette-2/
LOCATION:Marion Cultural and Civic Center\, 800 Tower Square Plz\, Marion\, IL\, 62959\, US
CATEGORIES:Adult Department
ATTACH;FMTTYPE=image/jpeg:https://www.marioncarnegielibrary.org/wp-content/uploads/2024/05/25219_image_446871925_870939781739502_814871535992097889_n.jpg
END:VEVENT
BEGIN:VEVENT
DTSTART;TZID=America/Chicago:20240718T120000
DTEND;TZID=America/Chicago:20240718T160000
DTSTAMP:20260425T173816
CREATED:20240604T200726Z
LAST-MODIFIED:20240604T200726Z
UID:25255-1721304000-1721318400@www.marioncarnegielibrary.org
SUMMARY:Marion Reads! Community Connections - Focus on Marion Services
DESCRIPTION:Connect with free services available right in our community! Don’t miss this opportunity to unlock the doors to a world of services made possible by our Marion neighbors! \nVisit the library’s McCoskey Room and check out great services available from organizations like Man-Tra-Con\, Shawnee Health\, and more! \nNOTICE: All participants and parents understand and agree that photos taken at the event may be used in social media postings and future promotions.
URL:https://www.marioncarnegielibrary.org/event/marion-reads-community-connections-focus-on-marion-services/
LOCATION:Marion Carnegie Library\, 206 S Market St\, Marion\, IL\, 62959\, US
CATEGORIES:Adult Department,General Library Events
ATTACH;FMTTYPE=image/jpeg:https://www.marioncarnegielibrary.org/wp-content/uploads/2024/06/25255_image_447062939_874166844750129_3828154910710146110_n.jpg
END:VEVENT
BEGIN:VEVENT
DTSTART;TZID=America/Chicago:20240723T180000
DTEND;TZID=America/Chicago:20240723T190000
DTSTAMP:20260425T173816
CREATED:20240530T160256Z
LAST-MODIFIED:20240711T215558Z
UID:25217-1721757600-1721761200@www.marioncarnegielibrary.org
SUMMARY:MCL Adult Department Summer Reading Social
DESCRIPTION:Celebrate the end of summer reading with a Bouquet Bar brought to you by Shawnee Stems and catering by Glacier’s End. \nRegistration is required for this event. Sign up at the library’s Main Desk starting Saturday\, July 20. Finish all 8 Summer Reading challenges to receive a personal invitation! \nThis event is free and open to everyone. No library card is required. \nNOTICE: All participants and parents understand and agree that photos taken at library events may be used in social media postings and future promotions.
URL:https://www.marioncarnegielibrary.org/event/mcl-adult-department-summer-reading-social/
LOCATION:Marion Carnegie Library\, 206 S Market St\, Marion\, IL\, 62959\, US
CATEGORIES:Adult Department
ATTACH;FMTTYPE=image/png:https://www.marioncarnegielibrary.org/wp-content/uploads/2024/05/Header-Adult-Summer-Reading-Social-July-2024.png
END:VEVENT
BEGIN:VEVENT
DTSTART;TZID=America/Chicago:20240727T100000
DTEND;TZID=America/Chicago:20240727T110000
DTSTAMP:20260425T173816
CREATED:20240530T160253Z
LAST-MODIFIED:20240530T160253Z
UID:25215-1722074400-1722078000@www.marioncarnegielibrary.org
SUMMARY:MCL Book Club
DESCRIPTION:In July\, the MCL Book Club will read and discuss “Beautiful Little Fools” by Jillian Cantor. \nBONUS: This book will satisfy one of this year’s Marion Reads! reading challenges! \nThis event is absolutely free and intended for ages 18 and older. No registration or library card is necessary. \nRemember to bring a few book recommendations and your best discussion questions to the meeting! \nNOTICE:  All participants and parents understand and agree that photos taken at the event may be used in social media postings and future promotions.
URL:https://www.marioncarnegielibrary.org/event/mcl-book-club-27/
LOCATION:Marion Carnegie Library\, 206 S Market St\, Marion\, IL\, 62959\, US
CATEGORIES:Adult Department
ATTACH;FMTTYPE=image/jpeg:https://www.marioncarnegielibrary.org/wp-content/uploads/2024/05/25215_image_446688929_870946601738820_8854618553125938156_n.jpg
END:VEVENT
BEGIN:VEVENT
DTSTART;TZID=America/Chicago:20240727T120000
DTEND;TZID=America/Chicago:20240727T160000
DTSTAMP:20260425T173816
CREATED:20240606T214001Z
LAST-MODIFIED:20240606T214001Z
UID:25261-1722081600-1722096000@www.marioncarnegielibrary.org
SUMMARY:Lawyer in the Library Day
DESCRIPTION:Meet one-on-one with a local attorney at this special afternoon-long edition of Lawyer in the Library Day at MCL! Several attorneys will be available to help with legal coaching\, document review\, referrals to additional community services\, e-filing court documents\, and other legal questions. \n-No Fees!\n-Max 20-minute Meetings\n-Walk-in appointments only\n-Walk-ins accepted until 3 pm\n-Bring paperwork that relates to your legal matter    \n*This event is free and open to the public.*    \nPlease note:\n– You are not eligible to participate if you are currently represented by an attorney.\n– Participants should reside within the First Judicial Circuit of Illinois. \nSponsored in part by Self-Represented Litigant Coordinator Grant through Access to Justice Division\, AOIC Brenda Sprague\, Coordinator Office of the Chief Judge\, First Judicial Circuit.
URL:https://www.marioncarnegielibrary.org/event/lawyer-in-the-library-day/
LOCATION:Marion Carnegie Library\, 206 S Market St\, Marion\, IL\, 62959\, US
CATEGORIES:Adult Department
ATTACH;FMTTYPE=image/jpeg:https://www.marioncarnegielibrary.org/wp-content/uploads/2024/06/25261_image_447974044_875472704619543_3207561278121497326_n.jpg
END:VEVENT
END:VCALENDAR