BEGIN:VCALENDAR
VERSION:2.0
PRODID:-//Marion Carnegie Library | 618-993-5935 - ECPv6.15.12.2//NONSGML v1.0//EN
CALSCALE:GREGORIAN
METHOD:PUBLISH
X-ORIGINAL-URL:https://www.marioncarnegielibrary.org
X-WR-CALDESC:Events for Marion Carnegie Library | 618-993-5935
REFRESH-INTERVAL;VALUE=DURATION:PT1H
X-Robots-Tag:noindex
X-PUBLISHED-TTL:PT1H
BEGIN:VTIMEZONE
TZID:America/Chicago
BEGIN:DAYLIGHT
TZOFFSETFROM:-0600
TZOFFSETTO:-0500
TZNAME:CDT
DTSTART:20230312T080000
END:DAYLIGHT
BEGIN:STANDARD
TZOFFSETFROM:-0500
TZOFFSETTO:-0600
TZNAME:CST
DTSTART:20231105T070000
END:STANDARD
BEGIN:DAYLIGHT
TZOFFSETFROM:-0600
TZOFFSETTO:-0500
TZNAME:CDT
DTSTART:20240310T080000
END:DAYLIGHT
BEGIN:STANDARD
TZOFFSETFROM:-0500
TZOFFSETTO:-0600
TZNAME:CST
DTSTART:20241103T070000
END:STANDARD
BEGIN:DAYLIGHT
TZOFFSETFROM:-0600
TZOFFSETTO:-0500
TZNAME:CDT
DTSTART:20250309T080000
END:DAYLIGHT
BEGIN:STANDARD
TZOFFSETFROM:-0500
TZOFFSETTO:-0600
TZNAME:CST
DTSTART:20251102T070000
END:STANDARD
END:VTIMEZONE
BEGIN:VEVENT
DTSTART;TZID=America/Chicago:20240501T160000
DTEND;TZID=America/Chicago:20240501T180000
DTSTAMP:20260425T202254
CREATED:20240417T175340Z
LAST-MODIFIED:20240417T175340Z
UID:24778-1714579200-1714586400@www.marioncarnegielibrary.org
SUMMARY:Become a Foster Parent – Information Session with LSSI
DESCRIPTION:Meet one-on-one with a representative from Lutheran Social Services of Illinois and learn about becoming a licensed foster home. \nRegistration is encouraged. Register at the MCL Main Floor Desk or call 618-993-5935 for your session. \nNOTICE: All participants and parents understand and agree that photos taken at library events may be used in social media postings and future promotions.
URL:https://www.marioncarnegielibrary.org/event/become-a-foster-parent-information-session-with-lssi-3/
LOCATION:Marion Carnegie Library\, 206 S Market St\, Marion\, IL\, 62959\, US
CATEGORIES:Adult Department
ATTACH;FMTTYPE=image/jpeg:https://www.marioncarnegielibrary.org/wp-content/uploads/2024/04/24778_image_438730437_842897441210403_748376078638839341_n.jpg
END:VEVENT
BEGIN:VEVENT
DTSTART;TZID=America/Chicago:20240509T150000
DTEND;TZID=America/Chicago:20240509T160000
DTSTAMP:20260425T202254
CREATED:20240417T175339Z
LAST-MODIFIED:20240417T175653Z
UID:24777-1715266800-1715270400@www.marioncarnegielibrary.org
SUMMARY:MCL Adult Craft - Sunflower and Butterflies Bouquet
DESCRIPTION:In May\, MCL Adult Craft sessions are back and in person in the library’s historic McCoskey Room! \nWe will be making summery mini bouquets with sunflowers and\nbutterflies. \nThe event is free and open to ages 18 and up. Registration is required to attend and you can sign up by calling the library at 618-993-5935 or visiting the library’s Main Floor desk beginning Wednesday\, May 1\, 2023. \nNOTICE: All participants and parents understand and agree that photos taken at library events may be used in social media postings and future promotions
URL:https://www.marioncarnegielibrary.org/event/mcl-adult-craft-sunflower-and-butterflies-bouquet-2/
LOCATION:Marion Carnegie Library\, 206 S Market St\, Marion\, IL\, 62959\, US
CATEGORIES:Adult Department
ATTACH;FMTTYPE=image/jpeg:https://www.marioncarnegielibrary.org/wp-content/uploads/2024/04/24775_image_437740946_842896914543789_7763089948898331418_n.jpg
END:VEVENT
BEGIN:VEVENT
DTSTART;TZID=America/Chicago:20240509T173000
DTEND;TZID=America/Chicago:20240509T183000
DTSTAMP:20260425T202254
CREATED:20240417T175337Z
LAST-MODIFIED:20240417T175337Z
UID:24775-1715275800-1715279400@www.marioncarnegielibrary.org
SUMMARY:MCL Adult Craft - Sunflower and Butterflies Bouquet
DESCRIPTION:In May\, MCL Adult Craft sessions are back and in person in the library’s historic McCoskey Room! \nWe will be making summery mini bouquets with sunflowers and\nbutterflies.  \nThe event is free and open to ages 18 and up. Registration is required to attend and you can sign up by calling the library at 618-993-5935 or visiting the library’s Main Floor desk beginning Wednesday\, May 1\, 2023. \nNOTICE: All participants and parents understand and agree that photos taken at library events may be used in social media postings and future promotions
URL:https://www.marioncarnegielibrary.org/event/mcl-adult-craft-sunflower-and-butterflies-bouquet/
LOCATION:Marion Carnegie Library\, 206 S Market St\, Marion\, IL\, 62959\, US
CATEGORIES:Adult Department
ATTACH;FMTTYPE=image/jpeg:https://www.marioncarnegielibrary.org/wp-content/uploads/2024/04/24775_image_437740946_842896914543789_7763089948898331418_n.jpg
END:VEVENT
BEGIN:VEVENT
DTSTART;TZID=America/Chicago:20240514T120000
DTEND;TZID=America/Chicago:20240514T140000
DTSTAMP:20260425T202254
CREATED:20240425T191605Z
LAST-MODIFIED:20240425T191913Z
UID:24897-1715688000-1715695200@www.marioncarnegielibrary.org
SUMMARY:ICASH Illinois with the Illinois State Treasurer's Office
DESCRIPTION:ICASH\, Illinois’ unclaimed property program\, reunites Illinois residents with missing money\, such as forgotten bank accounts\, uncashed checks\, stocks\, dividends\, or life insurance policies of deceased relatives. An estimated one in four Illinois adults discover property to claim when they search\, and the average claim is $1\,000. \nDrop in to the MCL Study Room between noon and 2 pm on Tuesday\, May 14 and see if you have unclaimed money with the State of Illinois!
URL:https://www.marioncarnegielibrary.org/event/icash-illinois-with-the-illinois-state-treasurers-office/
LOCATION:Marion Carnegie Library\, 206 S Market St\, Marion\, IL\, 62959\, US
CATEGORIES:Adult Department
ATTACH;FMTTYPE=image/jpeg:https://www.marioncarnegielibrary.org/wp-content/uploads/2024/04/24897_image_440446172_848077717359042_4852623325961150730_n.jpg
END:VEVENT
BEGIN:VEVENT
DTSTART;TZID=America/Chicago:20240514T170000
DTEND;TZID=America/Chicago:20240514T190000
DTSTAMP:20260425T202254
CREATED:20240417T175333Z
LAST-MODIFIED:20240417T175333Z
UID:24773-1715706000-1715713200@www.marioncarnegielibrary.org
SUMMARY:Lawyer in the Library
DESCRIPTION:An attorney will be available for 20-minute\, one-on-one meetings to assist you with legal coaching\,\ndocument review\, referrals to additional community services\, e-filing court documents\, and legal questions.   \n-No Fees!\n-Please Pre-Register at the Main Floor Circulation Desk\n-Bring paperwork that relates to your legal matter    \n*This program is free and open to the public.*    \n– Maximum of one session per person every 2 months.\n– You are not eligible to participate if you are currently represented by an attorney.\n– Participants should reside within the First Judicial Circuit of Illinois. \nSponsored in part by Self-Represented Litigant Coordinator Grant through Access to Justice Division\, AOIC Brenda Sprague\, Coordinator Office of the Chief Judge\, First Judicial Circuit.
URL:https://www.marioncarnegielibrary.org/event/lawyer-in-the-library-26/
LOCATION:Marion Carnegie Library\, 206 S Market St\, Marion\, IL\, 62959\, US
CATEGORIES:Adult Department
ATTACH;FMTTYPE=image/jpeg:https://www.marioncarnegielibrary.org/wp-content/uploads/2024/04/24773_image_437961958_842895051210642_3261971667063654563_n.jpg
END:VEVENT
BEGIN:VEVENT
DTSTART;TZID=America/Chicago:20240525T100000
DTEND;TZID=America/Chicago:20240525T110000
DTSTAMP:20260425T202254
CREATED:20240417T175342Z
LAST-MODIFIED:20240417T175342Z
UID:24780-1716631200-1716634800@www.marioncarnegielibrary.org
SUMMARY:MCL Book Club
DESCRIPTION:In May 2024\, the MCL Book Club will discuss “Lessons in Chemistry” by Bonnie Garmus. \nThis event is absolutely free and intended for ages 18 and older. No registration or library card is necessary. \nRemember to bring a few book recommendations and your best discussion questions to the meeting! \nNOTICE:  All participants and parents understand and agree that photos taken at the event may be used in social media postings and future promotions.
URL:https://www.marioncarnegielibrary.org/event/mcl-book-club-25/
LOCATION:Marion Carnegie Library\, 206 S Market St\, Marion\, IL\, 62959\, US
CATEGORIES:Adult Department
ATTACH;FMTTYPE=image/jpeg:https://www.marioncarnegielibrary.org/wp-content/uploads/2024/04/24780_image_438822306_842898107877003_6141801867728019068_n.jpg
END:VEVENT
END:VCALENDAR