BEGIN:VCALENDAR
VERSION:2.0
PRODID:-//Marion Carnegie Library | 618-993-5935 - ECPv6.15.12.2//NONSGML v1.0//EN
CALSCALE:GREGORIAN
METHOD:PUBLISH
X-ORIGINAL-URL:https://www.marioncarnegielibrary.org
X-WR-CALDESC:Events for Marion Carnegie Library | 618-993-5935
REFRESH-INTERVAL;VALUE=DURATION:PT1H
X-Robots-Tag:noindex
X-PUBLISHED-TTL:PT1H
BEGIN:VTIMEZONE
TZID:America/Chicago
BEGIN:DAYLIGHT
TZOFFSETFROM:-0600
TZOFFSETTO:-0500
TZNAME:CDT
DTSTART:20230312T080000
END:DAYLIGHT
BEGIN:STANDARD
TZOFFSETFROM:-0500
TZOFFSETTO:-0600
TZNAME:CST
DTSTART:20231105T070000
END:STANDARD
BEGIN:DAYLIGHT
TZOFFSETFROM:-0600
TZOFFSETTO:-0500
TZNAME:CDT
DTSTART:20240310T080000
END:DAYLIGHT
BEGIN:STANDARD
TZOFFSETFROM:-0500
TZOFFSETTO:-0600
TZNAME:CST
DTSTART:20241103T070000
END:STANDARD
BEGIN:DAYLIGHT
TZOFFSETFROM:-0600
TZOFFSETTO:-0500
TZNAME:CDT
DTSTART:20250309T080000
END:DAYLIGHT
BEGIN:STANDARD
TZOFFSETFROM:-0500
TZOFFSETTO:-0600
TZNAME:CST
DTSTART:20251102T070000
END:STANDARD
END:VTIMEZONE
BEGIN:VEVENT
DTSTART;TZID=America/Chicago:20240403T160000
DTEND;TZID=America/Chicago:20240403T180000
DTSTAMP:20260425T215158
CREATED:20240320T182031Z
LAST-MODIFIED:20240320T182031Z
UID:24678-1712160000-1712167200@www.marioncarnegielibrary.org
SUMMARY:Become a Foster Parent – Information Session with LSSI
DESCRIPTION:Meet one-on-one with a representative from Lutheran Social Services of Illinois and learn about becoming a licensed foster home. \nRegistration is encouraged. Register at the MCL Main Floor Desk or call 618-993-5935 for your session. \nNOTICE: All participants and parents understand and agree that photos taken at library events may be used in social media postings and future promotions.
URL:https://www.marioncarnegielibrary.org/event/become-a-foster-parent-information-session-with-lssi-2/
LOCATION:Marion Carnegie Library\, 206 S Market St\, Marion\, IL\, 62959\, US
CATEGORIES:Adult Department
ATTACH;FMTTYPE=image/jpeg:https://www.marioncarnegielibrary.org/wp-content/uploads/2024/03/24678_image_433696059_824784993021648_1469181413096388525_n.jpg
END:VEVENT
BEGIN:VEVENT
DTSTART;TZID=America/Chicago:20240409T180000
DTEND;TZID=America/Chicago:20240409T190000
DTSTAMP:20260425T215158
CREATED:20240320T182026Z
LAST-MODIFIED:20240405T205002Z
UID:24674-1712685600-1712689200@www.marioncarnegielibrary.org
SUMMARY:Momsday Moments - PREP TALK with Keri Henson
DESCRIPTION:Join this presentation live on Zoom at 6 pm on Tuesday\, April 9! \nTopic: Momsday Moments – PREP Talk with Keri Henson\nTime: Apr 9\, 2024 06:00 PM Central Time (US and Canada) \nJoin Zoom Meeting\nhttps://us02web.zoom.us/j/82491413599?pwd=VHF0SUlrWkNNMmRSSXIxc0xmUlg5dz09 \nMeeting ID: 824 9141 3599\nPasscode: 1916 \n——————– \nHear from Keri Henson – AKA The Momsday Prepper – during this insightful 20-minute PREP talk with a Q&A afterward. \nMoms\, grandmothers\, aunties\, nannies\, and especially teachers are invited to this reminder that you‘re part of a community of women\, and you‘re never alone in times of need. \nNote: Discretion is advised\, as this discussion could be triggering to women going through a tough time or experiencing the loss of a child. \nThis event will be presented Live-via-Zoom in MCL’s historic McCoskey Room. It’s absolutely free and intended for ages 18 and older. No registration or library card is necessary. \nNOTICE: All participants and parents understand and agree that photos taken at the event may be used in social media postings and future promotions.
URL:https://www.marioncarnegielibrary.org/event/momsday-moments-prep-talk-with-keri-henson/
LOCATION:Marion Carnegie Library\, 206 S Market St\, Marion\, IL\, 62959\, US
CATEGORIES:Adult Department
ATTACH;FMTTYPE=image/jpeg:https://www.marioncarnegielibrary.org/wp-content/uploads/2024/03/24674_image_433634120_824789813021166_8918191346688340846_n.jpg
END:VEVENT
BEGIN:VEVENT
DTSTART;TZID=America/Chicago:20240410T090000
DTEND;TZID=America/Chicago:20240410T200000
DTSTAMP:20260425T215158
CREATED:20240320T212249Z
LAST-MODIFIED:20240320T212249Z
UID:24684-1712739600-1712779200@www.marioncarnegielibrary.org
SUMMARY:MCL Craft To Go - Hummingbird Perch
DESCRIPTION:Starting Wednesday\, April 10 – visit the MCL Main Floor to pick up materials and instructions for creating a fun Hummingbird Perch to kick off Spring! \nKits are available to _everyone_ aged 18 and up\, while supplies last\, so don’t wait! One kit per patron\, please. No registration is required. \nNOTICE: All participants and parents understand and agree that photos taken at library events may be used in social media postings and future promotions
URL:https://www.marioncarnegielibrary.org/event/mcl-craft-to-go-hummingbird-perch/
LOCATION:Marion Carnegie Library\, 206 S Market St\, Marion\, IL\, 62959\, US
CATEGORIES:Adult Department
ATTACH;FMTTYPE=image/jpeg:https://www.marioncarnegielibrary.org/wp-content/uploads/2024/03/24684_image_434068493_824942889672525_4831055827227997845_n.jpg
END:VEVENT
BEGIN:VEVENT
DTSTART;TZID=America/Chicago:20240416T170000
DTEND;TZID=America/Chicago:20240416T190000
DTSTAMP:20260425T215158
CREATED:20240320T182033Z
LAST-MODIFIED:20240320T182033Z
UID:24680-1713286800-1713294000@www.marioncarnegielibrary.org
SUMMARY:Lawyer in the Library
DESCRIPTION:An attorney will be available for 20-minute\, one-on-one meetings to assist you with legal coaching\,\ndocument review\, referrals to additional community services\, e-filing court documents\, and legal questions.   \n-No Fees!\n-Please Pre-Register at the Main Floor Circulation Desk\n-Bring paperwork that relates to your legal matter    \n*This program is free and open to the public.*    \n– Maximum of one session per person every 2 months.\n– You are not eligible to participate if you are currently represented by an attorney.\n– Participants should reside within the First Judicial Circuit of Illinois. \nSponsored in part by Self-Represented Litigant Coordinator Grant through Access to Justice Division\, AOIC Brenda Sprague\, Coordinator Office of the Chief Judge\, First Judicial Circuit.
URL:https://www.marioncarnegielibrary.org/event/lawyer-in-the-library-25/
LOCATION:Marion Carnegie Library\, 206 S Market St\, Marion\, IL\, 62959\, US
CATEGORIES:Adult Department
ATTACH;FMTTYPE=image/jpeg:https://www.marioncarnegielibrary.org/wp-content/uploads/2024/03/24680_image_433782567_824784509688363_2234317442683765655_n.jpg
END:VEVENT
BEGIN:VEVENT
DTSTART;TZID=America/Chicago:20240427T100000
DTEND;TZID=America/Chicago:20240427T110000
DTSTAMP:20260425T215158
CREATED:20240320T182029Z
LAST-MODIFIED:20240320T182029Z
UID:24676-1714212000-1714215600@www.marioncarnegielibrary.org
SUMMARY:MCL Book Club
DESCRIPTION:In April 2024\, the MCL Book Club will discuss “Look Closer” by David Ellis. \nThis event is absolutely free and intended for ages 18 and older. No registration or library card is necessary. \nRemember to bring a few book recommendations and your best discussion questions to the meeting! \nNOTICE:  All participants and parents understand and agree that photos taken at the event may be used in social media postings and future promotions.
URL:https://www.marioncarnegielibrary.org/event/mcl-book-club-24/
LOCATION:Marion Carnegie Library\, 206 S Market St\, Marion\, IL\, 62959\, US
CATEGORIES:Adult Department
ATTACH;FMTTYPE=image/jpeg:https://www.marioncarnegielibrary.org/wp-content/uploads/2024/03/24676_image_433588683_824785743021573_8308226639494642477_n.jpg
END:VEVENT
END:VCALENDAR