BEGIN:VCALENDAR
VERSION:2.0
PRODID:-//Marion Carnegie Library | 618-993-5935 - ECPv6.15.12.2//NONSGML v1.0//EN
CALSCALE:GREGORIAN
METHOD:PUBLISH
X-ORIGINAL-URL:https://www.marioncarnegielibrary.org
X-WR-CALDESC:Events for Marion Carnegie Library | 618-993-5935
REFRESH-INTERVAL;VALUE=DURATION:PT1H
X-Robots-Tag:noindex
X-PUBLISHED-TTL:PT1H
BEGIN:VTIMEZONE
TZID:America/Chicago
BEGIN:DAYLIGHT
TZOFFSETFROM:-0600
TZOFFSETTO:-0500
TZNAME:CDT
DTSTART:20230312T080000
END:DAYLIGHT
BEGIN:STANDARD
TZOFFSETFROM:-0500
TZOFFSETTO:-0600
TZNAME:CST
DTSTART:20231105T070000
END:STANDARD
BEGIN:DAYLIGHT
TZOFFSETFROM:-0600
TZOFFSETTO:-0500
TZNAME:CDT
DTSTART:20240310T080000
END:DAYLIGHT
BEGIN:STANDARD
TZOFFSETFROM:-0500
TZOFFSETTO:-0600
TZNAME:CST
DTSTART:20241103T070000
END:STANDARD
BEGIN:DAYLIGHT
TZOFFSETFROM:-0600
TZOFFSETTO:-0500
TZNAME:CDT
DTSTART:20250309T080000
END:DAYLIGHT
BEGIN:STANDARD
TZOFFSETFROM:-0500
TZOFFSETTO:-0600
TZNAME:CST
DTSTART:20251102T070000
END:STANDARD
END:VTIMEZONE
BEGIN:VEVENT
DTSTART;TZID=America/Chicago:20240306T160000
DTEND;TZID=America/Chicago:20240306T180000
DTSTAMP:20260425T231335
CREATED:20240220T214101Z
LAST-MODIFIED:20240301T201332Z
UID:24480-1709740800-1709748000@www.marioncarnegielibrary.org
SUMMARY:Become a Foster Parent – Information Session with LSSI
DESCRIPTION:Meet one-on-one with a representative from Lutheran Social Services of Illinois and learn about becoming a licensed foster home. \nRegistration is encouraged. Register at the MCL Main Floor Desk or call 618-993-5935 for your session. \nNOTICE: All participants and parents understand and agree that photos taken at library events may be used in social media postings and future promotions.
URL:https://www.marioncarnegielibrary.org/event/become-a-foster-parent-information-session-with-lssi/
LOCATION:Marion Carnegie Library\, 206 S Market St\, Marion\, IL\, 62959\, US
CATEGORIES:Adult Department
ATTACH;FMTTYPE=image/png:https://www.marioncarnegielibrary.org/wp-content/uploads/2024/02/Header-Adult-Become-a-Foster-Parent-March-2024.png
END:VEVENT
BEGIN:VEVENT
DTSTART;TZID=America/Chicago:20240312T170000
DTEND;TZID=America/Chicago:20240312T190000
DTSTAMP:20260425T231335
CREATED:20240220T214105Z
LAST-MODIFIED:20240220T214105Z
UID:24484-1710262800-1710270000@www.marioncarnegielibrary.org
SUMMARY:Lawyer in the Library
DESCRIPTION:An attorney will be available for 20-minute\, one-on-one meetings to assist you with legal coaching\,\ndocument review\, referrals to additional community services\, e-filing court documents\, and legal questions.   \n-No Fees!\n-Please Pre-Register at the Main Floor Circulation Desk\n-Bring paperwork that relates to your legal matter    \n*This program is free and open to the public.*    \n– Maximum of one session per person every 2 months.\n– You are not eligible to participate if you are currently represented by an attorney.\n– Participants should reside within the First Judicial Circuit of Illinois. \nSponsored in part by Self-Represented Litigant Coordinator Grant through Access to Justice Division\, AOIC Brenda Sprague\, Coordinator Office of the Chief Judge\, First Judicial Circuit.
URL:https://www.marioncarnegielibrary.org/event/lawyer-in-the-library-24/
LOCATION:Marion Carnegie Library\, 206 S Market St\, Marion\, IL\, 62959\, US
CATEGORIES:Adult Department
ATTACH;FMTTYPE=image/jpeg:https://www.marioncarnegielibrary.org/wp-content/uploads/2024/02/24484_image_428656558_807341154766032_2063540683349048193_n.jpg
END:VEVENT
BEGIN:VEVENT
DTSTART;TZID=America/Chicago:20240313T090000
DTEND;TZID=America/Chicago:20240313T200000
DTSTAMP:20260425T231335
CREATED:20240220T214103Z
LAST-MODIFIED:20240220T214103Z
UID:24482-1710320400-1710360000@www.marioncarnegielibrary.org
SUMMARY:MCL Craft To Go - Button Brooch
DESCRIPTION:Starting Wednesday\, March 13 visit the MCL Main Floor to pick up materials and instructions for creating a beautiful Button and Faux Pearl Brooch.   \nKits are available while supplies last\, so don’t wait! One kit per patron\, please. No registration is required. \nNOTICE: All participants and parents understand and agree that photos taken at library events may be used in social media postings and future promotions
URL:https://www.marioncarnegielibrary.org/event/mcl-craft-to-go-button-brooch/
LOCATION:Marion Carnegie Library\, 206 S Market St\, Marion\, IL\, 62959\, US
CATEGORIES:Adult Department
ATTACH;FMTTYPE=image/jpeg:https://www.marioncarnegielibrary.org/wp-content/uploads/2024/02/24482_image_428676900_807342091432605_3849926341891756206_n.jpg
END:VEVENT
BEGIN:VEVENT
DTSTART;TZID=America/Chicago:20240323T100000
DTEND;TZID=America/Chicago:20240323T110000
DTSTAMP:20260425T231335
CREATED:20240221T185438Z
LAST-MODIFIED:20240221T185438Z
UID:24491-1711188000-1711191600@www.marioncarnegielibrary.org
SUMMARY:MCL Book Club
DESCRIPTION:In March 2024\, MCL’s Book Club will discuss “Apples Never Fall” by Liane Moriarty. \nThis event is absolutely free and intended for ages 18 and older. No registration or library card is necessary. \nRemember to bring a few book recommendations and your best discussion questions to the meeting! \nNOTICE:  All participants and parents understand and agree that photos taken at the event may be used in social media postings and future promotions.
URL:https://www.marioncarnegielibrary.org/event/mcl-book-club-23/
LOCATION:Marion Carnegie Library\, 206 S Market St\, Marion\, IL\, 62959\, US
CATEGORIES:Adult Department
ATTACH;FMTTYPE=image/jpeg:https://www.marioncarnegielibrary.org/wp-content/uploads/2024/02/24491_image_428681422_807875321379282_8677417578820793940_n.jpg
END:VEVENT
END:VCALENDAR