BEGIN:VCALENDAR
VERSION:2.0
PRODID:-//Marion Carnegie Library | 618-993-5935 - ECPv6.15.12.2//NONSGML v1.0//EN
CALSCALE:GREGORIAN
METHOD:PUBLISH
X-WR-CALNAME:Marion Carnegie Library | 618-993-5935
X-ORIGINAL-URL:https://www.marioncarnegielibrary.org
X-WR-CALDESC:Events for Marion Carnegie Library | 618-993-5935
REFRESH-INTERVAL;VALUE=DURATION:PT1H
X-Robots-Tag:noindex
X-PUBLISHED-TTL:PT1H
BEGIN:VTIMEZONE
TZID:America/Chicago
BEGIN:DAYLIGHT
TZOFFSETFROM:-0600
TZOFFSETTO:-0500
TZNAME:CDT
DTSTART:20250309T080000
END:DAYLIGHT
BEGIN:STANDARD
TZOFFSETFROM:-0500
TZOFFSETTO:-0600
TZNAME:CST
DTSTART:20251102T070000
END:STANDARD
BEGIN:DAYLIGHT
TZOFFSETFROM:-0600
TZOFFSETTO:-0500
TZNAME:CDT
DTSTART:20260308T080000
END:DAYLIGHT
BEGIN:STANDARD
TZOFFSETFROM:-0500
TZOFFSETTO:-0600
TZNAME:CST
DTSTART:20261101T070000
END:STANDARD
BEGIN:DAYLIGHT
TZOFFSETFROM:-0600
TZOFFSETTO:-0500
TZNAME:CDT
DTSTART:20270314T080000
END:DAYLIGHT
BEGIN:STANDARD
TZOFFSETFROM:-0500
TZOFFSETTO:-0600
TZNAME:CST
DTSTART:20271107T070000
END:STANDARD
END:VTIMEZONE
BEGIN:VEVENT
DTSTART;TZID=America/Chicago:20260423T103000
DTEND;TZID=America/Chicago:20260423T103000
DTSTAMP:20260423T021856
CREATED:20260318T191944Z
LAST-MODIFIED:20260318T191944Z
UID:28878-1776940200-1776940200@www.marioncarnegielibrary.org
SUMMARY:Earth Day Story Hour
DESCRIPTION:Join us and The Garden Club in reading a nature book\, singing\, and dancing and afterwards make a fun nature craft!
URL:https://www.marioncarnegielibrary.org/event/earth-day-story-hour-2/
CATEGORIES:Children's Department
ATTACH;FMTTYPE=image/png:https://www.marioncarnegielibrary.org/wp-content/uploads/2026/03/Apr26-SH-Wk-4-Earth-Day.png
END:VEVENT
BEGIN:VEVENT
DTSTART;TZID=America/Chicago:20260423T150000
DTEND;TZID=America/Chicago:20260423T190000
DTSTAMP:20260423T021856
CREATED:20260326T180043Z
LAST-MODIFIED:20260326T180043Z
UID:28928-1776956400-1776970800@www.marioncarnegielibrary.org
SUMMARY:PNG at MCL: Open Lab
DESCRIPTION:Work with any of our equipment & create whatever you can imagine! \nAges 10-18. \nFunding for Project Next Generation is provided by the U.S. Institute of Museum and Library Services to the Secretary of State/Illinois State Library under the provisions of the Library Services and Technology Act (LSTA). \nAll participants and parents understand and agree that photos taken at events may be used in social media posts and future promotions.
URL:https://www.marioncarnegielibrary.org/event/png-at-mcl-open-lab-11/
CATEGORIES:Project Next Generation
END:VEVENT
BEGIN:VEVENT
DTSTART;TZID=America/Chicago:20260423T160000
DTEND;TZID=America/Chicago:20260423T190000
DTSTAMP:20260423T021856
CREATED:20260317T224445Z
LAST-MODIFIED:20260317T224445Z
UID:28804-1776960000-1776970800@www.marioncarnegielibrary.org
SUMMARY:Playroom Playdate
DESCRIPTION:Meet up with friends and make new ones in our fun playroom!
URL:https://www.marioncarnegielibrary.org/event/playroom-playdate-303/
CATEGORIES:Children's Department
END:VEVENT
END:VCALENDAR