BEGIN:VCALENDAR
VERSION:2.0
PRODID:-//Marion Carnegie Library | 618-993-5935 - ECPv6.15.12.2//NONSGML v1.0//EN
CALSCALE:GREGORIAN
METHOD:PUBLISH
X-WR-CALNAME:Marion Carnegie Library | 618-993-5935
X-ORIGINAL-URL:https://www.marioncarnegielibrary.org
X-WR-CALDESC:Events for Marion Carnegie Library | 618-993-5935
REFRESH-INTERVAL;VALUE=DURATION:PT1H
X-Robots-Tag:noindex
X-PUBLISHED-TTL:PT1H
BEGIN:VTIMEZONE
TZID:America/Chicago
BEGIN:DAYLIGHT
TZOFFSETFROM:-0600
TZOFFSETTO:-0500
TZNAME:CDT
DTSTART:20250309T080000
END:DAYLIGHT
BEGIN:STANDARD
TZOFFSETFROM:-0500
TZOFFSETTO:-0600
TZNAME:CST
DTSTART:20251102T070000
END:STANDARD
BEGIN:DAYLIGHT
TZOFFSETFROM:-0600
TZOFFSETTO:-0500
TZNAME:CDT
DTSTART:20260308T080000
END:DAYLIGHT
BEGIN:STANDARD
TZOFFSETFROM:-0500
TZOFFSETTO:-0600
TZNAME:CST
DTSTART:20261101T070000
END:STANDARD
BEGIN:DAYLIGHT
TZOFFSETFROM:-0600
TZOFFSETTO:-0500
TZNAME:CDT
DTSTART:20270314T080000
END:DAYLIGHT
BEGIN:STANDARD
TZOFFSETFROM:-0500
TZOFFSETTO:-0600
TZNAME:CST
DTSTART:20271107T070000
END:STANDARD
END:VTIMEZONE
BEGIN:VEVENT
DTSTART;TZID=America/Chicago:20260422T103000
DTEND;TZID=America/Chicago:20260422T103000
DTSTAMP:20260422T014406
CREATED:20260318T191901Z
LAST-MODIFIED:20260318T191901Z
UID:28876-1776853800-1776853800@www.marioncarnegielibrary.org
SUMMARY:Earth Day Story Hour
DESCRIPTION:Join us and The Garden Club in reading a nature book\, singing\, and dancing and afterwards make a fun nature craft!
URL:https://www.marioncarnegielibrary.org/event/earth-day-story-hour/
CATEGORIES:Children's Department
ATTACH;FMTTYPE=image/png:https://www.marioncarnegielibrary.org/wp-content/uploads/2026/03/Apr26-SH-Wk-4-Earth-Day.png
END:VEVENT
BEGIN:VEVENT
DTSTART;TZID=America/Chicago:20260422T150000
DTEND;TZID=America/Chicago:20260422T190000
DTSTAMP:20260422T014406
CREATED:20260326T180011Z
LAST-MODIFIED:20260326T180011Z
UID:28926-1776870000-1776884400@www.marioncarnegielibrary.org
SUMMARY:PNG at MCL: Open Lab
DESCRIPTION:Work with any of our equipment & create whatever you can imagine! \nAges 10-18. \nFunding for Project Next Generation is provided by the U.S. Institute of Museum and Library Services to the Secretary of State/Illinois State Library under the provisions of the Library Services and Technology Act (LSTA). \nAll participants and parents understand and agree that photos taken at events may be used in social media posts and future promotions.
URL:https://www.marioncarnegielibrary.org/event/png-at-mcl-open-lab-10/
CATEGORIES:Project Next Generation
END:VEVENT
BEGIN:VEVENT
DTSTART;TZID=America/Chicago:20260422T160000
DTEND;TZID=America/Chicago:20260422T190000
DTSTAMP:20260422T014406
CREATED:20260317T235911Z
LAST-MODIFIED:20260317T235911Z
UID:28821-1776873600-1776884400@www.marioncarnegielibrary.org
SUMMARY:The Bookworms
DESCRIPTION:Join ‘The Bookworms’! A teen book club where we discuss anything you want to read. Stay for a movie based on a YA novel!
URL:https://www.marioncarnegielibrary.org/event/the-bookworms-8/
CATEGORIES:Young Adult Department
ATTACH;FMTTYPE=image/png:https://www.marioncarnegielibrary.org/wp-content/uploads/2026/03/Apr26-Bookworms.png
END:VEVENT
END:VCALENDAR